BEGIN:VCALENDAR
VERSION:2.0
PRODID:-//wp-events-plugin.com//7.2.3.1//EN
TZID:Europe/Berlin
X-WR-TIMEZONE:Europe/Berlin
BEGIN:VEVENT
UID:9@wittenberge-advent.de
DTSTART;TZID=Europe/Berlin:20251222T170000
DTEND;TZID=Europe/Berlin:20251222T180000
DTSTAMP:20251123T105405Z
URL:https://www.wittenberge-advent.de/tuerchen/weihnachtsbasteln-kleine-we
 ihnachtsgeschichte/
SUMMARY:Weihnachtsbasteln & kleine Weihnachtsgeschichte
DESCRIPTION:Das Kalendertürchen lädt besonders auch Kinder und Familien e
 in\, ist aber für jede Altersgruppe geeignet.
LOCATION:ATELIER IM SCHAUFENSTER\, Kerstin Becker\, Bahnstr. 42\, Wittenber
 ge\, Deutschland
X-APPLE-STRUCTURED-LOCATION;VALUE=URI;X-ADDRESS=Bahnstr. 42\, Wittenberge\,
  Deutschland;X-APPLE-RADIUS=100;X-TITLE=ATELIER IM SCHAUFENSTER\, Kerstin 
 Becker:geo:0,0
END:VEVENT
BEGIN:VTIMEZONE
TZID:Europe/Berlin
X-LIC-LOCATION:Europe/Berlin
BEGIN:STANDARD
DTSTART:20251026T020000
TZOFFSETFROM:+0200
TZOFFSETTO:+0100
TZNAME:CET
END:STANDARD
END:VTIMEZONE
END:VCALENDAR