BEGIN:VCALENDAR
VERSION:2.0
PRODID:-//wp-events-plugin.com//7.2.3.1//EN
TZID:Europe/Berlin
X-WR-TIMEZONE:Europe/Berlin
BEGIN:VEVENT
UID:21@wittenberge-advent.de
DTSTART;TZID=Europe/Berlin:20251224T180000
DTEND;TZID=Europe/Berlin:20251224T200000
DTSTAMP:20251215T142929Z
URL:https://www.wittenberge-advent.de/tuerchen/weihnachtsfeier-am-heiligab
 end/
SUMMARY:Weihnachtsfeier am Heiligabend
DESCRIPTION:Kurze Anmeldung erforderlich - bitte per E-Mail an info@efg-wit
 tenberge.de oder telefonisch unter 0171 8932055 .Herzliche Einladung auch 
 schon zur Christvesper um 16 Uhr
LOCATION:Evang. Freikirchliche Gemeinde\, Zimmerstr. 5\, Wittenberge\, Deut
 schland
X-APPLE-STRUCTURED-LOCATION;VALUE=URI;X-ADDRESS=Zimmerstr. 5\, Wittenberge\
 , Deutschland;X-APPLE-RADIUS=100;X-TITLE=Evang. Freikirchliche Gemeinde:ge
 o:0,0
END:VEVENT
BEGIN:VTIMEZONE
TZID:Europe/Berlin
X-LIC-LOCATION:Europe/Berlin
BEGIN:STANDARD
DTSTART:20251026T020000
TZOFFSETFROM:+0200
TZOFFSETTO:+0100
TZNAME:CET
END:STANDARD
END:VTIMEZONE
END:VCALENDAR