BEGIN:VCALENDAR
VERSION:2.0
PRODID:-//wp-events-plugin.com//7.2.3.1//EN
TZID:Europe/Berlin
X-WR-TIMEZONE:Europe/Berlin
BEGIN:VEVENT
UID:3@wittenberge-advent.de
DTSTART;TZID=Europe/Berlin:20251221T170000
DTEND;TZID=Europe/Berlin:20251221T180000
DTSTAMP:20251123T111210Z
URL:https://www.wittenberge-advent.de/tuerchen/yalda-die-laengste-nacht-de
 s-jahres/
SUMMARY:Yalda – Die längste Nacht des Jahres
DESCRIPTION:
LOCATION:Shah Neshin (Persisches Restaurant)\, Zimmerstr. 2\, Wittenberge\,
  Deutschland
X-APPLE-STRUCTURED-LOCATION;VALUE=URI;X-ADDRESS=Zimmerstr. 2\, Wittenberge\
 , Deutschland;X-APPLE-RADIUS=100;X-TITLE=Shah Neshin (Persisches Restauran
 t):geo:0,0
END:VEVENT
BEGIN:VTIMEZONE
TZID:Europe/Berlin
X-LIC-LOCATION:Europe/Berlin
BEGIN:STANDARD
DTSTART:20251026T020000
TZOFFSETFROM:+0200
TZOFFSETTO:+0100
TZNAME:CET
END:STANDARD
END:VTIMEZONE
END:VCALENDAR